BEGIN:VCALENDAR
VERSION:2.0
CREATED:20260420T205419Z
PRODID:-//GCI Liberty\, Inc./Equisolve Calendar v1.0//EN
METHOD:PUBLISH
BEGIN:VEVENT
UID:4f990bfd2ee9c7d427b3f0786635273e
DTSTAMP:20260421T094503Z
DTSTART:20260507T151500Z
DTEND:20260507T161500Z
SUMMARY:Q1 2026 GCI Liberty Earnings Conference Call
DESCRIPTION:Q1 2026 GCI Liberty Earnings Conference Call\nDate: May 7\, 2026 11:15 am EDT\nWebcast: https://event.choruscall.com/mediaframe/webcast.html?webcastid=Yg83CxSK
END:VEVENT
END:VCALENDAR
