BEGIN:VCALENDAR
VERSION:2.0
CREATED:20260422T060326Z
PRODID:-//GCI Liberty\, Inc./Equisolve Calendar v1.0//EN
METHOD:PUBLISH
BEGIN:VEVENT
UID:1d2b25a3ee6b139cf2d7a799962f7080
DTSTAMP:20260423T095920Z
DTSTART:20260422T000000
DTEND:20260423T000000
SUMMARY:GCI to Acquire Quintillion
DESCRIPTION:GCI to Acquire Quintillion\nDate: Apr 22\, 2026
END:VEVENT
END:VCALENDAR
